BEGIN:VCALENDAR
VERSION:2.0
PRODID:-//Josey Creek M. B. Church - ECPv6.15.20//NONSGML v1.0//EN
CALSCALE:GREGORIAN
METHOD:PUBLISH
X-ORIGINAL-URL:https://joseycreekchurch.org
X-WR-CALDESC:Events for Josey Creek M. B. Church
REFRESH-INTERVAL;VALUE=DURATION:PT1H
X-Robots-Tag:noindex
X-PUBLISHED-TTL:PT1H
BEGIN:VTIMEZONE
TZID:Europe/Helsinki
BEGIN:DAYLIGHT
TZOFFSETFROM:+0200
TZOFFSETTO:+0300
TZNAME:EEST
DTSTART:20220327T010000
END:DAYLIGHT
BEGIN:STANDARD
TZOFFSETFROM:+0300
TZOFFSETTO:+0200
TZNAME:EET
DTSTART:20221030T010000
END:STANDARD
BEGIN:DAYLIGHT
TZOFFSETFROM:+0200
TZOFFSETTO:+0300
TZNAME:EEST
DTSTART:20230326T010000
END:DAYLIGHT
BEGIN:STANDARD
TZOFFSETFROM:+0300
TZOFFSETTO:+0200
TZNAME:EET
DTSTART:20231029T010000
END:STANDARD
BEGIN:DAYLIGHT
TZOFFSETFROM:+0200
TZOFFSETTO:+0300
TZNAME:EEST
DTSTART:20240331T010000
END:DAYLIGHT
BEGIN:STANDARD
TZOFFSETFROM:+0300
TZOFFSETTO:+0200
TZNAME:EET
DTSTART:20241027T010000
END:STANDARD
END:VTIMEZONE
BEGIN:VTIMEZONE
TZID:America/Chicago
BEGIN:DAYLIGHT
TZOFFSETFROM:-0600
TZOFFSETTO:-0500
TZNAME:CDT
DTSTART:20220313T080000
END:DAYLIGHT
BEGIN:STANDARD
TZOFFSETFROM:-0500
TZOFFSETTO:-0600
TZNAME:CST
DTSTART:20221106T070000
END:STANDARD
BEGIN:DAYLIGHT
TZOFFSETFROM:-0600
TZOFFSETTO:-0500
TZNAME:CDT
DTSTART:20230312T080000
END:DAYLIGHT
BEGIN:STANDARD
TZOFFSETFROM:-0500
TZOFFSETTO:-0600
TZNAME:CST
DTSTART:20231105T070000
END:STANDARD
BEGIN:DAYLIGHT
TZOFFSETFROM:-0600
TZOFFSETTO:-0500
TZNAME:CDT
DTSTART:20240310T080000
END:DAYLIGHT
BEGIN:STANDARD
TZOFFSETFROM:-0500
TZOFFSETTO:-0600
TZNAME:CST
DTSTART:20241103T070000
END:STANDARD
END:VTIMEZONE
BEGIN:VEVENT
DTSTART;TZID=Europe/Helsinki:20230816T183000
DTEND;TZID=Europe/Helsinki:20230816T200000
DTSTAMP:20260423T210621
CREATED:20230810T012618Z
LAST-MODIFIED:20230810T012618Z
UID:1553-1692210600-1692216000@joseycreekchurch.org
SUMMARY:Bible Study
DESCRIPTION:
URL:https://joseycreekchurch.org/event-calendar/bible-study-2/
LOCATION:Josey Creek M.B. Church\, Starkville\, MS\, United States
END:VEVENT
BEGIN:VEVENT
DTSTART;TZID=America/Chicago:20230810T180000
DTEND;TZID=America/Chicago:20230810T190000
DTSTAMP:20260423T210621
CREATED:20230810T135427Z
LAST-MODIFIED:20230810T135746Z
UID:1566-1691690400-1691694000@joseycreekchurch.org
SUMMARY:Male Choir Rehearsal
DESCRIPTION:
URL:https://joseycreekchurch.org/event-calendar/male-choir-rehearsal/
LOCATION:Josey Creek M.B. Church\, Starkville\, MS\, United States
END:VEVENT
BEGIN:VEVENT
DTSTART;TZID=Europe/Helsinki:20230809T183000
DTEND;TZID=Europe/Helsinki:20230809T200000
DTSTAMP:20260423T210621
CREATED:20230810T012521Z
LAST-MODIFIED:20230810T012521Z
UID:1551-1691605800-1691611200@joseycreekchurch.org
SUMMARY:Bible Study
DESCRIPTION:
URL:https://joseycreekchurch.org/event-calendar/bible-study/
LOCATION:Josey Creek M.B. Church\, Starkville\, MS\, United States
END:VEVENT
BEGIN:VEVENT
DTSTART;TZID=Europe/Helsinki:20230806T110000
DTEND;TZID=Europe/Helsinki:20230806T123000
DTSTAMP:20260423T210621
CREATED:20230809T212853Z
LAST-MODIFIED:20230809T212923Z
UID:1513-1691319600-1691325000@joseycreekchurch.org
SUMMARY:Communion Sunday
DESCRIPTION:
URL:https://joseycreekchurch.org/event-calendar/communion-sunday/
LOCATION:Josey Creek M.B. Church\, Starkville\, MS\, United States
END:VEVENT
BEGIN:VEVENT
DTSTART;TZID=America/Chicago:20230528T103000
DTEND;TZID=America/Chicago:20230528T140000
DTSTAMP:20260423T210621
CREATED:20230522T150447Z
LAST-MODIFIED:20230522T150447Z
UID:1399-1685269800-1685282400@joseycreekchurch.org
SUMMARY:Church Anniversary Picnic
DESCRIPTION:
URL:https://joseycreekchurch.org/event-calendar/church-anniversary-picnic/
LOCATION:Josey Creek M.B. Church\, Starkville\, MS\, United States
END:VEVENT
END:VCALENDAR