BEGIN:VCALENDAR
VERSION:2.0
PRODID:-//Josey Creek M. B. Church - ECPv6.15.20//NONSGML v1.0//EN
CALSCALE:GREGORIAN
METHOD:PUBLISH
X-WR-CALNAME:Josey Creek M. B. Church
X-ORIGINAL-URL:https://joseycreekchurch.org
X-WR-CALDESC:Events for Josey Creek M. B. Church
REFRESH-INTERVAL;VALUE=DURATION:PT1H
X-Robots-Tag:noindex
X-PUBLISHED-TTL:PT1H
BEGIN:VTIMEZONE
TZID:Europe/Helsinki
BEGIN:DAYLIGHT
TZOFFSETFROM:+0200
TZOFFSETTO:+0300
TZNAME:EEST
DTSTART:20230326T010000
END:DAYLIGHT
BEGIN:STANDARD
TZOFFSETFROM:+0300
TZOFFSETTO:+0200
TZNAME:EET
DTSTART:20231029T010000
END:STANDARD
BEGIN:DAYLIGHT
TZOFFSETFROM:+0200
TZOFFSETTO:+0300
TZNAME:EEST
DTSTART:20240331T010000
END:DAYLIGHT
BEGIN:STANDARD
TZOFFSETFROM:+0300
TZOFFSETTO:+0200
TZNAME:EET
DTSTART:20241027T010000
END:STANDARD
BEGIN:DAYLIGHT
TZOFFSETFROM:+0200
TZOFFSETTO:+0300
TZNAME:EEST
DTSTART:20250330T010000
END:DAYLIGHT
BEGIN:STANDARD
TZOFFSETFROM:+0300
TZOFFSETTO:+0200
TZNAME:EET
DTSTART:20251026T010000
END:STANDARD
END:VTIMEZONE
BEGIN:VEVENT
DTSTART;TZID=Europe/Helsinki:20240424T180000
DTEND;TZID=Europe/Helsinki:20240424T190000
DTSTAMP:20260423T161648
CREATED:20240417T235710Z
LAST-MODIFIED:20240417T235710Z
UID:1710-1713981600-1713985200@joseycreekchurch.org
SUMMARY:Bible Study
DESCRIPTION:In person and via Zoom \n\n\nZoom Host: Josey Creek Bible Study\nMeeting ID: 814 1527 0150\nPasscode: 54321\nDial-in Number: 1-312-626-6799
URL:https://joseycreekchurch.org/event-calendar/bible-study-14/
LOCATION:Josey Creek M.B. Church\, Starkville\, MS\, United States
CATEGORIES:Bible Study
END:VEVENT
BEGIN:VEVENT
DTSTART;VALUE=DATE:20240423
DTEND;VALUE=DATE:20240424
DTSTAMP:20260423T161648
CREATED:20240306T154138Z
LAST-MODIFIED:20240306T154138Z
UID:1677-1713830400-1713916799@joseycreekchurch.org
SUMMARY:Casserole Kitchen
DESCRIPTION:Hosted by Home Mission Society
URL:https://joseycreekchurch.org/event-calendar/casserole-kitchen-2/
LOCATION:MS
CATEGORIES:Special Events
END:VEVENT
BEGIN:VEVENT
DTSTART;TZID=Europe/Helsinki:20240421T110000
DTEND;TZID=Europe/Helsinki:20240421T123000
DTSTAMP:20260423T161648
CREATED:20240306T154328Z
LAST-MODIFIED:20240420T153636Z
UID:1681-1713697200-1713702600@joseycreekchurch.org
SUMMARY:Sunday Service
DESCRIPTION:Pastor Petro Jordan \nIn support of Sarcoidosis Awareness\, all are asked to wear purple.
URL:https://joseycreekchurch.org/event-calendar/sunday-service-7/
LOCATION:Josey Creek M.B. Church\, Starkville\, MS\, United States
CATEGORIES:Sunday Service
END:VEVENT
BEGIN:VEVENT
DTSTART;TZID=Europe/Helsinki:20240418T060000
DTEND;TZID=Europe/Helsinki:20240418T193000
DTSTAMP:20260423T161648
CREATED:20240420T154311Z
LAST-MODIFIED:20240420T154311Z
UID:1740-1713420000-1713468600@joseycreekchurch.org
SUMMARY:Laymen's Fellowship
DESCRIPTION:Host church: Southside M.B. Church in Columbus \n  \n 
URL:https://joseycreekchurch.org/event-calendar/laymens-fellowship/
LOCATION:Southside M.B. Church\, 100 Nashville Ferry Rd East\, Columbus\, MS\, United States
CATEGORIES:Special Events
END:VEVENT
BEGIN:VEVENT
DTSTART;TZID=Europe/Helsinki:20240417T180000
DTEND;TZID=Europe/Helsinki:20240417T190000
DTSTAMP:20260423T161648
CREATED:20240417T235557Z
LAST-MODIFIED:20240417T235557Z
UID:1708-1713376800-1713380400@joseycreekchurch.org
SUMMARY:Bible Study
DESCRIPTION:In person and via Zoom \n\n\nZoom Host: Josey Creek Bible Study\nMeeting ID: 814 1527 0150\nPasscode: 54321\nDial-in Number: 1-312-626-6799
URL:https://joseycreekchurch.org/event-calendar/bible-study-13/
LOCATION:Josey Creek M.B. Church\, Starkville\, MS\, United States
CATEGORIES:Bible Study
END:VEVENT
BEGIN:VEVENT
DTSTART;TZID=Europe/Helsinki:20240414T110000
DTEND;TZID=Europe/Helsinki:20240414T123000
DTSTAMP:20260423T161648
CREATED:20240306T154258Z
LAST-MODIFIED:20240420T153253Z
UID:1679-1713092400-1713097800@joseycreekchurch.org
SUMMARY:Sunday Service
DESCRIPTION:Pastor Petro Jordan \nAutism Awareness Sunday- All are asked to wear blue.
URL:https://joseycreekchurch.org/event-calendar/sunday-service-6/
LOCATION:Josey Creek M.B. Church\, Starkville\, MS\, United States
CATEGORIES:Sunday Service
END:VEVENT
BEGIN:VEVENT
DTSTART;TZID=Europe/Helsinki:20240410T180000
DTEND;TZID=Europe/Helsinki:20240410T190000
DTSTAMP:20260423T161648
CREATED:20240417T235853Z
LAST-MODIFIED:20240417T235920Z
UID:1714-1712772000-1712775600@joseycreekchurch.org
SUMMARY:Bible Study
DESCRIPTION:In person and via Zoom \n\n\nZoom Host: Josey Creek Bible Study\nMeeting ID: 814 1527 0150\nPasscode: 54321\nDial-in Number: 1-312-626-6799
URL:https://joseycreekchurch.org/event-calendar/bible-study-16/
LOCATION:Josey Creek M.B. Church\, Starkville\, MS\, United States
CATEGORIES:Bible Study
END:VEVENT
BEGIN:VEVENT
DTSTART;TZID=Europe/Helsinki:20240407T110000
DTEND;TZID=Europe/Helsinki:20240407T123000
DTSTAMP:20260423T161648
CREATED:20240226T034058Z
LAST-MODIFIED:20240226T035423Z
UID:1606-1712487600-1712493000@joseycreekchurch.org
SUMMARY:Communion Sunday
DESCRIPTION:
URL:https://joseycreekchurch.org/event-calendar/communion-sunday-4/
LOCATION:Josey Creek M.B. Church\, Starkville\, MS\, United States
CATEGORIES:Sunday Service
END:VEVENT
BEGIN:VEVENT
DTSTART;TZID=Europe/Helsinki:20240406T100000
DTEND;TZID=Europe/Helsinki:20240406T113000
DTSTAMP:20260423T161648
CREATED:20240306T152910Z
LAST-MODIFIED:20240306T152910Z
UID:1665-1712397600-1712403000@joseycreekchurch.org
SUMMARY:2nd Quarter Business Meeting
DESCRIPTION:
URL:https://joseycreekchurch.org/event-calendar/2nd-quarter-business-meeting/
LOCATION:Josey Creek M.B. Church\, Starkville\, MS\, United States
CATEGORIES:Church Meeting
END:VEVENT
BEGIN:VEVENT
DTSTART;TZID=Europe/Helsinki:20240403T180000
DTEND;TZID=Europe/Helsinki:20240403T190000
DTSTAMP:20260423T161648
CREATED:20240226T035319Z
LAST-MODIFIED:20240226T035319Z
UID:1634-1712167200-1712170800@joseycreekchurch.org
SUMMARY:Bible Study
DESCRIPTION:
URL:https://joseycreekchurch.org/event-calendar/bible-study-12/
LOCATION:Josey Creek M.B. Church\, Starkville\, MS\, United States
CATEGORIES:Bible Study
END:VEVENT
BEGIN:VEVENT
DTSTART;TZID=Europe/Helsinki:20240402T190000
DTEND;TZID=Europe/Helsinki:20240402T210000
DTSTAMP:20260423T161648
CREATED:20240420T193229Z
LAST-MODIFIED:20240420T193229Z
UID:1759-1712084400-1712091600@joseycreekchurch.org
SUMMARY:Youth Movie Night
DESCRIPTION:
URL:https://joseycreekchurch.org/event-calendar/youth-movie-night/
LOCATION:Hollywood Premier Cinema\, 101 Hollywood Blvd\, Starkville\, MS\, 39759\, United States
CATEGORIES:Special Events
END:VEVENT
BEGIN:VEVENT
DTSTART;TZID=Europe/Helsinki:20240331T080000
DTEND;TZID=Europe/Helsinki:20240331T100000
DTSTAMP:20260423T161648
CREATED:20240226T035028Z
LAST-MODIFIED:20240329T163236Z
UID:1628-1711872000-1711879200@joseycreekchurch.org
SUMMARY:Resurrection Sunday Service
DESCRIPTION:
URL:https://joseycreekchurch.org/event-calendar/resurrection-sunday-service/
LOCATION:Josey Creek M.B. Church\, Starkville\, MS\, United States
CATEGORIES:Sunday Service
END:VEVENT
BEGIN:VEVENT
DTSTART;TZID=Europe/Helsinki:20240327T180000
DTEND;TZID=Europe/Helsinki:20240327T190000
DTSTAMP:20260423T161648
CREATED:20240226T035233Z
LAST-MODIFIED:20240226T035233Z
UID:1632-1711562400-1711566000@joseycreekchurch.org
SUMMARY:Bible Study
DESCRIPTION:
URL:https://joseycreekchurch.org/event-calendar/bible-study-11/
LOCATION:Josey Creek M.B. Church\, Starkville\, MS\, United States
CATEGORIES:Bible Study
END:VEVENT
BEGIN:VEVENT
DTSTART;VALUE=DATE:20240326
DTEND;VALUE=DATE:20240327
DTSTAMP:20260423T161648
CREATED:20240306T153416Z
LAST-MODIFIED:20240306T153621Z
UID:1670-1711411200-1711497599@joseycreekchurch.org
SUMMARY:Casserole Kitchen
DESCRIPTION:Hosted by Home Mission Society
URL:https://joseycreekchurch.org/event-calendar/casserole-kitchen/
LOCATION:MS
CATEGORIES:Special Events
END:VEVENT
BEGIN:VEVENT
DTSTART;TZID=Europe/Helsinki:20240324T180000
DTEND;TZID=Europe/Helsinki:20240324T200000
DTSTAMP:20260423T161648
CREATED:20240306T152810Z
LAST-MODIFIED:20240306T153103Z
UID:1662-1711303200-1711310400@joseycreekchurch.org
SUMMARY:Whitefield District Association 5th Sunday Fellowship
DESCRIPTION:Hosted by Mt. Airy Missionary Baptist Church
URL:https://joseycreekchurch.org/event-calendar/whitefield-district-association-5th-sunday-fellowship/
LOCATION:Mt. Airy M.B. Church\, 3188 Craig Springs Rd.\, Sturgis\, MS\, United States
CATEGORIES:Special Events
END:VEVENT
BEGIN:VEVENT
DTSTART;TZID=Europe/Helsinki:20240324T110000
DTEND;TZID=Europe/Helsinki:20240324T123000
DTSTAMP:20260423T161648
CREATED:20240226T035139Z
LAST-MODIFIED:20240306T153224Z
UID:1630-1711278000-1711283400@joseycreekchurch.org
SUMMARY:Sunday Service
DESCRIPTION:Pastor Petro Jordan
URL:https://joseycreekchurch.org/event-calendar/sunday-service-5/
LOCATION:Josey Creek M.B. Church\, Starkville\, MS\, United States
CATEGORIES:Sunday Service
END:VEVENT
BEGIN:VEVENT
DTSTART;TZID=Europe/Helsinki:20240323T110000
DTEND;TZID=Europe/Helsinki:20240323T140000
DTSTAMP:20260423T161648
CREATED:20240306T195011Z
LAST-MODIFIED:20240306T195011Z
UID:1660-1711191600-1711202400@joseycreekchurch.org
SUMMARY:Rainbow Tea
DESCRIPTION:Hosted by Deaconess and Women’s Auxiliary
URL:https://joseycreekchurch.org/event-calendar/rainbow-tea/
LOCATION:MS
CATEGORIES:Special Events
END:VEVENT
BEGIN:VEVENT
DTSTART;TZID=Europe/Helsinki:20240320T180000
DTEND;TZID=Europe/Helsinki:20240320T190000
DTSTAMP:20260423T161648
CREATED:20240226T034909Z
LAST-MODIFIED:20240226T034909Z
UID:1626-1710957600-1710961200@joseycreekchurch.org
SUMMARY:Bible Study
DESCRIPTION:
URL:https://joseycreekchurch.org/event-calendar/bible-study-10/
LOCATION:Josey Creek M.B. Church\, Starkville\, MS\, United States
CATEGORIES:Bible Study
END:VEVENT
BEGIN:VEVENT
DTSTART;TZID=Europe/Helsinki:20240317T110000
DTEND;TZID=Europe/Helsinki:20240317T123000
DTSTAMP:20260423T161648
CREATED:20240226T034745Z
LAST-MODIFIED:20240306T153246Z
UID:1622-1710673200-1710678600@joseycreekchurch.org
SUMMARY:Sunday Service
DESCRIPTION:Pastor Petro Jordan
URL:https://joseycreekchurch.org/event-calendar/sunday-service-4/
LOCATION:Josey Creek M.B. Church\, Starkville\, MS\, United States
CATEGORIES:Sunday Service
END:VEVENT
BEGIN:VEVENT
DTSTART;TZID=Europe/Helsinki:20240313T180000
DTEND;TZID=Europe/Helsinki:20240313T190000
DTSTAMP:20260423T161648
CREATED:20240226T034834Z
LAST-MODIFIED:20240226T034834Z
UID:1624-1710352800-1710356400@joseycreekchurch.org
SUMMARY:Bible Study
DESCRIPTION:
URL:https://joseycreekchurch.org/event-calendar/bible-study-9/
LOCATION:Josey Creek M.B. Church\, Starkville\, MS\, United States
CATEGORIES:Bible Study
END:VEVENT
BEGIN:VEVENT
DTSTART;TZID=Europe/Helsinki:20240310T110000
DTEND;TZID=Europe/Helsinki:20240310T123000
DTSTAMP:20260423T161648
CREATED:20240226T034715Z
LAST-MODIFIED:20240306T153305Z
UID:1620-1710068400-1710073800@joseycreekchurch.org
SUMMARY:Sunday Service
DESCRIPTION:Pastor Petro Jordan
URL:https://joseycreekchurch.org/event-calendar/sunday-service-3/
LOCATION:Josey Creek M.B. Church\, Starkville\, MS\, United States
CATEGORIES:Sunday Service
END:VEVENT
BEGIN:VEVENT
DTSTART;TZID=Europe/Helsinki:20240306T180000
DTEND;TZID=Europe/Helsinki:20240306T190000
DTSTAMP:20260423T161648
CREATED:20240226T033848Z
LAST-MODIFIED:20240226T033848Z
UID:1602-1709748000-1709751600@joseycreekchurch.org
SUMMARY:Bible Study
DESCRIPTION:
URL:https://joseycreekchurch.org/event-calendar/bible-study-7/
LOCATION:Josey Creek M.B. Church\, Starkville\, MS\, United States
CATEGORIES:Bible Study
END:VEVENT
BEGIN:VEVENT
DTSTART;TZID=Europe/Helsinki:20240303T110000
DTEND;TZID=Europe/Helsinki:20240303T123000
DTSTAMP:20260423T161648
CREATED:20240226T034020Z
LAST-MODIFIED:20240226T034020Z
UID:1604-1709463600-1709469000@joseycreekchurch.org
SUMMARY:Communion Sunday
DESCRIPTION:
URL:https://joseycreekchurch.org/event-calendar/communion-sunday-3/
LOCATION:Josey Creek M.B. Church\, Starkville\, MS\, United States
CATEGORIES:Sunday Service
END:VEVENT
BEGIN:VEVENT
DTSTART;TZID=Europe/Helsinki:20240228T180000
DTEND;TZID=Europe/Helsinki:20240228T190000
DTSTAMP:20260423T161648
CREATED:20240226T033709Z
LAST-MODIFIED:20240226T033709Z
UID:1598-1709143200-1709146800@joseycreekchurch.org
SUMMARY:Bible Study
DESCRIPTION:
URL:https://joseycreekchurch.org/event-calendar/bible-study-5/
LOCATION:Josey Creek M.B. Church\, Starkville\, MS\, United States
CATEGORIES:Bible Study
END:VEVENT
BEGIN:VEVENT
DTSTART;TZID=Europe/Helsinki:20240225T110000
DTEND;TZID=Europe/Helsinki:20240225T123000
DTSTAMP:20260423T161648
CREATED:20240226T034215Z
LAST-MODIFIED:20240226T034215Z
UID:1608-1708858800-1708864200@joseycreekchurch.org
SUMMARY:Youth Sunday
DESCRIPTION:
URL:https://joseycreekchurch.org/event-calendar/youth-sunday/
LOCATION:Josey Creek M.B. Church\, Starkville\, MS\, United States
CATEGORIES:Sunday Service
END:VEVENT
BEGIN:VEVENT
DTSTART;TZID=Europe/Helsinki:20240221T180000
DTEND;TZID=Europe/Helsinki:20240221T190000
DTSTAMP:20260423T161648
CREATED:20240226T033800Z
LAST-MODIFIED:20240226T033800Z
UID:1600-1708538400-1708542000@joseycreekchurch.org
SUMMARY:Bible Study
DESCRIPTION:
URL:https://joseycreekchurch.org/event-calendar/bible-study-6/
LOCATION:Josey Creek M.B. Church\, Starkville\, MS\, United States
CATEGORIES:Bible Study
END:VEVENT
BEGIN:VEVENT
DTSTART;TZID=Europe/Helsinki:20240218T110000
DTEND;TZID=Europe/Helsinki:20240218T123000
DTSTAMP:20260423T161648
CREATED:20240226T034443Z
LAST-MODIFIED:20240226T034443Z
UID:1614-1708254000-1708259400@joseycreekchurch.org
SUMMARY:Sunday Service
DESCRIPTION:
URL:https://joseycreekchurch.org/event-calendar/sunday-service/
LOCATION:Josey Creek M.B. Church\, Starkville\, MS\, United States
CATEGORIES:Sunday Service
END:VEVENT
BEGIN:VEVENT
DTSTART;TZID=Europe/Helsinki:20240211T110000
DTEND;TZID=Europe/Helsinki:20240211T123000
DTSTAMP:20260423T161648
CREATED:20240226T034510Z
LAST-MODIFIED:20240226T034510Z
UID:1616-1707649200-1707654600@joseycreekchurch.org
SUMMARY:Sunday Service
DESCRIPTION:
URL:https://joseycreekchurch.org/event-calendar/sunday-service-2/
LOCATION:Josey Creek M.B. Church\, Starkville\, MS\, United States
CATEGORIES:Sunday Service
END:VEVENT
BEGIN:VEVENT
DTSTART;TZID=Europe/Helsinki:20240207T180000
DTEND;TZID=Europe/Helsinki:20240207T190000
DTSTAMP:20260423T161648
CREATED:20240226T034340Z
LAST-MODIFIED:20240226T034340Z
UID:1612-1707328800-1707332400@joseycreekchurch.org
SUMMARY:Bible Study
DESCRIPTION:
URL:https://joseycreekchurch.org/event-calendar/bible-study-8/
LOCATION:Josey Creek M.B. Church\, Starkville\, MS\, United States
CATEGORIES:Bible Study
END:VEVENT
BEGIN:VEVENT
DTSTART;TZID=Europe/Helsinki:20240204T110000
DTEND;TZID=Europe/Helsinki:20240204T123000
DTSTAMP:20260423T161648
CREATED:20240226T034617Z
LAST-MODIFIED:20240226T034617Z
UID:1618-1707044400-1707049800@joseycreekchurch.org
SUMMARY:Communion Sunday
DESCRIPTION:
URL:https://joseycreekchurch.org/event-calendar/communion-sunday-5/
LOCATION:Josey Creek M.B. Church\, Starkville\, MS\, United States
CATEGORIES:Sunday Service
END:VEVENT
END:VCALENDAR